BEGIN:VCALENDAR
PRODID:-//eluceo/ical//2.0/EN
VERSION:2.0
CALSCALE:GREGORIAN
BEGIN:VEVENT
UID:a14ad13c56869b910cf83f8be8e38421
DTSTAMP:20260423T070435Z
SUMMARY:Temple Israel Museum Visit to Ogunquit\, Maine
DESCRIPTION:Jewish Federation of New Hampshire\nCommunity Calendar\nhttps:/
 /jewishnh.org/community-calendar/museum-visit-to-ogunquit-maine-1686310826
 \n\nJoin congregants and members of Temple Israel's Arts Review Team for a
  summer outing to the Barn Gallery in Ogunquit\, Maine. Let's walk\, eat a
  picnic lunch together\, and view the works on display!\n\nThis event will
  take place rain or shine. Bring a picnic lunch and a chair. Parking is av
 ailable onsite or attendees can meet at Temple Israel\, Portsmouth\, and c
 arpool. Please contact the temple office to indicate an interest in carpoo
 ling.
DTSTART;TZID=America/New_York:20230723T120000
DTEND;TZID=America/New_York:20230723T150000
END:VEVENT
END:VCALENDAR
