BEGIN:VCALENDAR
PRODID:-//eluceo/ical//2.0/EN
VERSION:2.0
CALSCALE:GREGORIAN
BEGIN:VEVENT
UID:356d70e85f96e55e185224302d4098a0
DTSTAMP:20260422T052624Z
SUMMARY:Temple Beth Abraham Musical Family Shabbat Service
DESCRIPTION:Jewish Federation of New Hampshire\nCommunity Calendar\nhttps:/
 /jewishnh.org/community-calendar/musical-family-shabbat-service-1698335817
 \n\n9:45 am - 10:30 am - families with children 0-5\, 11:00 am - 12:00 pm 
 - families with children ages 6 and older.  \nStay for free community lunc
 heon at 12:00 pm \nPlease register so we make sure to accommodate everyone
 ! \n(Please include a note about whether you will be staying for lunch)\n\
 nServices will meet in the chapel at the main TBA building\, 4 Raymond St.
  Nashua\, NH. \nThe service is led by Cantorial Soloist David Rothberg\, a
  veteran Jewish music specialist and creator. \n\nRSVP...
DTSTART;TZID=America/New_York:20231111T094500
DTEND;TZID=America/New_York:20231111T120000
END:VEVENT
END:VCALENDAR
