BEGIN:VCALENDAR
PRODID:-//eluceo/ical//2.0/EN
VERSION:2.0
CALSCALE:GREGORIAN
BEGIN:VEVENT
UID:ab0c2e003084e67c2da72ef073962bfd
DTSTAMP:20260423T103247Z
SUMMARY:Musical Kabbalat Shabbat Service\, Temple Israel Portsmouth
DESCRIPTION:Jewish Federation of New Hampshire\nCommunity Calendar\nhttps:/
 /jewishnh.org/community-calendar/musical-kabbalat-shabbat-service-temple-i
 srael-portsmouth-1636403350\n\nCantorial Soloist Kochava Munro joins Rabba
  Kaya Stern-Kaufman in a musical Hanukkah / Shabbat service. Engaging and 
 fun for all ages!
DTSTART;TZID=America/New_York:20211203T180000
DTEND;TZID=America/New_York:20211203T190000
END:VEVENT
END:VCALENDAR
