BEGIN:VCALENDAR
PRODID:-//eluceo/ical//2.0/EN
VERSION:2.0
CALSCALE:GREGORIAN
BEGIN:VEVENT
UID:512e28825ea4e7571a910048a6318b17
DTSTAMP:20260423T204748Z
SUMMARY:Musical Kabbalat Shabbat Services with special guest "Bashert"
DESCRIPTION:Jewish Federation of New Hampshire\nCommunity Calendar\nhttps:/
 /jewishnh.org/community-calendar/musical-kabbalat-shabbat-services-with-sp
 ecial-guest-bashert-1570816634\n\nPlease join us at Temple Israel\, 200 St
 ate Street\, Portsmouth\, for musical Shabbat services led by Rabbi Howard
  Mandell and featuring the musical group "Bashert." This group of seven si
 ngers and musicians are members of Congregation Beth Israel of the Merrima
 ck Valley in Lawrence\, MA\, and draw on a variety of sources for their mu
 sical Friday night services.
DTSTART;TZID=America/New_York:20191108T181500
DTEND;TZID=America/New_York:20191108T203000
END:VEVENT
END:VCALENDAR
