BEGIN:VCALENDAR
PRODID:-//eluceo/ical//2.0/EN
VERSION:2.0
CALSCALE:GREGORIAN
BEGIN:VEVENT
UID:606ab5b96560b2a3bc0c8b6023c138c4
DTSTAMP:20260422T213011Z
SUMMARY:Musical Megillah Reading
DESCRIPTION:Jewish Federation of New Hampshire\nCommunity Calendar\nhttps:/
 /jewishnh.org/community-calendar/musical-megillah-reading-1709912474\n\nDo
 n’t miss the Musical Megillah Reading\, at Temple Israel\, Portsmouth. J
 oin us for a Megillah reading like no other\, featuring timeless Purim son
 gs set to classic rock tunes! Bring your noisemakers and come in costume. 
 Don’t miss out on the ultimate Purim experience!\n\nCome for the songs\,
  stay for the cookies. Enjoy a delicious Homemade Hamentaschen Oneg after 
 the service! Register via the temple's online calendar.
DTSTART;TZID=America/New_York:20240323T193000
DTEND;TZID=America/New_York:20240323T213000
END:VEVENT
END:VCALENDAR
