BEGIN:VCALENDAR
PRODID:-//eluceo/ical//2.0/EN
VERSION:2.0
CALSCALE:GREGORIAN
BEGIN:VEVENT
UID:328df14af50e6b06ba27d34436d8d0fd
DTSTAMP:20260424T151215Z
SUMMARY:Musical Shabbat Services with Kochava Munro
DESCRIPTION:Jewish Federation of New Hampshire\nCommunity Calendar\nhttps:/
 /jewishnh.org/community-calendar/musical-shabbat-services-with-kochava-mun
 ro-1568234636\n\nPlease join us for musical Kabbalat Shabbat services led 
 by cantorial soloist Kochava Munro at Temple Israel Portsmouth\, 200 State
  Street\, Portsmouth NH.
DTSTART;TZID=America/New_York:20191025T181500
DTEND;TZID=America/New_York:20191025T201500
END:VEVENT
END:VCALENDAR
