BEGIN:VCALENDAR
PRODID:-//eluceo/ical//2.0/EN
VERSION:2.0
CALSCALE:GREGORIAN
BEGIN:VEVENT
UID:078e582b9712d96b3614fb530cf03001
DTSTAMP:20260423T100653Z
SUMMARY:MWV Chavurah Monthly Friday Night Potluck
DESCRIPTION:Jewish Federation of New Hampshire\nCommunity Calendar\nhttps:/
 /jewishnh.org/community-calendar/mwv-chavurah-monthly-friday-night-potluck
 -1653694254\n\nWe are resuming our last Friday of the month kaballat Shab
 bat service followed by a potluck dinner.
DTSTART;TZID=America/New_York:20220624T184500
DTEND;TZID=America/New_York:20220624T204500
END:VEVENT
END:VCALENDAR
