BEGIN:VCALENDAR
PRODID:-//eluceo/ical//2.0/EN
VERSION:2.0
CALSCALE:GREGORIAN
BEGIN:VEVENT
UID:3ae2740020be97dd639642e761c99600
DTSTAMP:20260422T171948Z
SUMMARY:MWV Jewish Community (Chavurah) Shabbat Service and Pot Luck Dinner
DESCRIPTION:Jewish Federation of New Hampshire\nCommunity Calendar\nhttps:/
 /jewishnh.org/community-calendar/mwv-jewish-community-chavurah-shabbat-ser
 vice-and-pot-luck-dinner-1625268683\n\nOur first in-person gathering since
  the pandemic.  Start with a Kabbalat Service followed by a pot-luck dinne
 r. Please -- no pork or shellfish.
DTSTART;TZID=America/New_York:20210730T180000
DTEND;TZID=America/New_York:20210730T200000
END:VEVENT
END:VCALENDAR
