BEGIN:VCALENDAR
PRODID:-//eluceo/ical//2.0/EN
VERSION:2.0
CALSCALE:GREGORIAN
BEGIN:VEVENT
UID:2752c686898d129145af3e8e9ab24553
DTSTAMP:20260422T161354Z
SUMMARY:My Big Story:  Customs\,  Narcotics\, FBI to the Dept of Labor IG
 ’s Office
DESCRIPTION:Jewish Federation of New Hampshire\nCommunity Calendar\nhttps:/
 /jewishnh.org/community-calendar/my-big-story--customs--narcotics-fbi-to-t
 he-dept-of-labor-igs-office-1578747927\n\nThe Southern New Hampshire Jewis
 h Men&rsquo\;s Club is proud to sponsor Jim&rsquo\;s presentation which wi
 ll start off with our Monthly Sunday Breakfast at 9:30 AM.  Our kitchen cr
 ew will be preparing a sumptuous feast of eggs\, potatoes\, bagels\, lox a
 nd whitefish salad with veggies\, fruit\, juice\, coffee and tea. The cost
  for breakfast is $8.00 for Men&rsquo\;s Club members and $12 for non-memb
 ers. For more information\, and to RSVP for breakfast (please)\, email bre
 akfastrsvp@snhjmc.org.
DTSTART;TZID=America/New_York:20200216T093000
DTEND;TZID=America/New_York:20200216T113000
END:VEVENT
END:VCALENDAR
