BEGIN:VCALENDAR
PRODID:-//eluceo/ical//2.0/EN
VERSION:2.0
CALSCALE:GREGORIAN
BEGIN:VEVENT
UID:49bdaf5ca0cfb6830cfb8ac77c1a8e6d
DTSTAMP:20260423T215032Z
SUMMARY:My Genealogical Journey
DESCRIPTION:Jewish Federation of New Hampshire\nCommunity Calendar\nhttps:/
 /jewishnh.org/community-calendar/my-genealogical-journey-1602423169\n\nGen
 ealogist Paul Moverman will take you on a Genealogical Journey starting ov
 er 30 years ago with a columnar pad at the kitchen table with his father a
 nd tracing family members from Ukraine and Poland to the United States\, I
 srael\, Russia\, France\, England\, Colombia\, Brazil and more! Registrati
 on is required in advance by emailing president@snhjmc.org.
DTSTART;TZID=America/New_York:20201115T093000
DTEND;TZID=America/New_York:20201115T113000
END:VEVENT
END:VCALENDAR
