BEGIN:VCALENDAR
PRODID:-//eluceo/ical//2.0/EN
VERSION:2.0
CALSCALE:GREGORIAN
BEGIN:VEVENT
UID:f886fdfd422e0063aac93c241517b482
DTSTAMP:20260425T122843Z
SUMMARY:My Israeli Experience by JFNH Shaliach Guy Ben David w/ Congregatio
 n Betenu
DESCRIPTION:Jewish Federation of New Hampshire\nCommunity Calendar\nhttps:/
 /jewishnh.org/community-calendar/my-israeli-experience-by-guy-ben-david-17
 08697196\n\nJoin us on Zoom . JFNH Shaliach Guy Ben David will present "My
  Israeli Experience ." A prayer service for Israel will follow his lecture
 .\n\nThis is a virtual event.
DTSTART;TZID=America/New_York:20240204T190000
DTEND;TZID=America/New_York:20240204T203000
END:VEVENT
END:VCALENDAR
