BEGIN:VCALENDAR
PRODID:-//eluceo/ical//2.0/EN
VERSION:2.0
CALSCALE:GREGORIAN
BEGIN:VEVENT
UID:e53a074fea1948c6f1cd8942fe585468
DTSTAMP:20260422T075724Z
SUMMARY:SNHJMC Hosts Shlicha Avia Sagron presenting "My Israeli Story"
DESCRIPTION:Jewish Federation of New Hampshire\nCommunity Calendar\nhttps:/
 /jewishnh.org/community-calendar/my-israeli-story-1573362161\n\nMy Israeli
  Story\, a talk by NH Jewish Federation Shlicha Avia Sagron\, will take pl
 ace on Sunday\, December 15\, 2019\, at 9:30 AM at Temple Beth Abraham\, 4
  Raymond Street\, Nashua. Drawing on her own personal experiences as a fou
 nder of a local branch of a youth movement for children and young adults w
 ith special needs\, a Computer Network Manager during her military service
  in Ogda 36\, an educator on several different kibbutzim and as an agricul
 tural worker\, Avia will provide a unique look inside...
DTSTART;TZID=America/New_York:20191215T100000
DTEND;TZID=America/New_York:20191215T110000
END:VEVENT
END:VCALENDAR
