BEGIN:VCALENDAR
PRODID:-//eluceo/ical//2.0/EN
VERSION:2.0
CALSCALE:GREGORIAN
BEGIN:VEVENT
UID:5d90891748f2634929f675aef24a9638
DTSTAMP:20260422T045513Z
SUMMARY:My Name is Sarah- NH Jewish Film Festival
DESCRIPTION:Jewish Federation of New Hampshire\nCommunity Calendar\nhttps:/
 /jewishnh.org/community-calendar/my-name-is-sarah--nh-jewish-film-festival
 -1581454899\n\nMy Name Is Sara\nNew Hampshire Premiere\nSunday\, March 22\
 , 2020\, 1:00 PM\nThe Music Hall Loft\, Portsmouth\, NH\nAdmission: $12.00
 \n\nDirector: Steven Oritt\nDrama\, 2020\, USA\n111 minutes\nEnglish\nCont
 ent Warning: Adult Content\, Sexual Situations\n\nThe true story of Sara G
 oralnik\, a 13-year-old Polish Jew whose entire family was killed by Nazis
  in September 1942. After a grueling escape to the Ukrainian countryside\,
  Sara steals her Christian best friends identity and finds refuge in a sma
 ll v...
DTSTART;TZID=America/New_York:20200322T130000
DTEND;TZID=America/New_York:20200322T150000
END:VEVENT
END:VCALENDAR
