BEGIN:VCALENDAR
PRODID:-//eluceo/ical//2.0/EN
VERSION:2.0
CALSCALE:GREGORIAN
BEGIN:VEVENT
UID:6bc8a256ceb89d7e3be682decbe42839
DTSTAMP:20260422T095232Z
SUMMARY:"My Soul Is Filled With Joy" With Karen Treiger
DESCRIPTION:Jewish Federation of New Hampshire\nCommunity Calendar\nhttps:/
 /jewishnh.org/community-calendar/my-soul-is-filled-with-joy-with-karen-tre
 iger-1573150787\n\n“This extraordinary book enables the reader to see th
 e Holocaust through two different lenses. Each lens gives us a compelling 
 view of a world\, far from our present reality\, which we need to know. Ea
 ch lens opens a gate and leads us into a reality from which we return tran
 sformed. This book which started as a gift of love from the author to her 
 survivor parents-in-law\, turns out to be a gift of seeing life anew to ev
 ery reader. It enables us – no\, it compels us-to see our everyday lives
 ...
DTSTART;TZID=America/New_York:20191112T183000
DTEND;TZID=America/New_York:20191112T200000
END:VEVENT
END:VCALENDAR
