BEGIN:VCALENDAR
PRODID:-//eluceo/ical//2.0/EN
VERSION:2.0
CALSCALE:GREGORIAN
BEGIN:VEVENT
UID:8b67b22edcfb3b17ff8d831251087037
DTSTAMP:20260422T112201Z
SUMMARY:Nadav Tamir speaking on the Israeli Election
DESCRIPTION:Jewish Federation of New Hampshire\nCommunity Calendar\nhttps:/
 /jewishnh.org/community-calendar/nadav-tamir-speaking-on-the-israeli-elect
 ion-1552422578\n\nNadav Tamir\, former Israeli Consul General for New Engl
 and and adviser to President Shimon Peres\, will speak at Temple Israel\, 
 Portsmouth\, on Tuesday\, April 2\, at 7 pm. Seven days before the Israeli
  election\, Tamir will share his perspective about Israeli politics. The t
 alk will end with a Q&A followed by dessert. There is no charge for this e
 vent.
DTSTART;TZID=America/New_York:20190402T190000
DTEND;TZID=America/New_York:20190402T210000
END:VEVENT
END:VCALENDAR
