BEGIN:VCALENDAR
PRODID:-//eluceo/ical//2.0/EN
VERSION:2.0
CALSCALE:GREGORIAN
BEGIN:VEVENT
UID:9619af0677049eeb785dc48cdd6c27b0
DTSTAMP:20260423T090008Z
SUMMARY:"Nashua\, the State of the City"
DESCRIPTION:Jewish Federation of New Hampshire\nCommunity Calendar\nhttps:/
 /jewishnh.org/community-calendar/nashua-the-state-of-the-city-1612997745\n
 \nThis Zoom presentation is open to the public but advance registration is
  required. Please contact Don Gorelick at president@snhjmc.org to confirm 
 your registration.
DTSTART;TZID=America/New_York:20210321T093000
DTEND;TZID=America/New_York:20210321T113000
END:VEVENT
END:VCALENDAR
