BEGIN:VCALENDAR
PRODID:-//eluceo/ical//2.0/EN
VERSION:2.0
CALSCALE:GREGORIAN
BEGIN:VEVENT
UID:0a79bc0fa35ebad2d85f3aa41aa9aa35
DTSTAMP:20260423T102422Z
SUMMARY:Nefesh B'Nefesh Webinar: The Last Dance- talk MJ and Israeli BBall
DESCRIPTION:Jewish Federation of New Hampshire\nCommunity Calendar\nhttps:/
 /jewishnh.org/community-calendar/nefesh-bnefesh-webinar-the-last-dance--ta
 lk-mj-and-israeli-bball-1590520600\n\nJoin Nefesh B&#039\;Nefesh\, Tamir &
 quot\;Jewish Jordan&quot\; Goodman &amp\; Former NBA players for a discuss
 ion about basketball\, Israel\, Aliyah and the Last Dance... 
DTSTART;TZID=America/New_York:20200604T120000
DTEND;TZID=America/New_York:20200604T130000
END:VEVENT
END:VCALENDAR
