BEGIN:VCALENDAR
PRODID:-//eluceo/ical//2.0/EN
VERSION:2.0
CALSCALE:GREGORIAN
BEGIN:VEVENT
UID:5b80103068f1dd3e0d90ae29a9211300
DTSTAMP:20260422T112328Z
SUMMARY:New Hampshire Jewish Festival Opening Night
DESCRIPTION:Jewish Federation of New Hampshire\nCommunity Calendar\nhttps:/
 /jewishnh.org/community-calendar/new-hampshire-jewish-festival-opening-nig
 ht-1675808755\n\nOpening Night 15th Annual New Hampshire Jewish FIlm Festi
 val\nOut of Exile: The Photography of Fred Stein\nDocumentary\nUSA 2021\n8
 6 Minutes\nDirector: Peter Stein\n\nFleeing the Nazi threat in Germany\, F
 red Stein arrives in 1930s Paris\, destitute\, and finds that he can suppo
 rt himself through photography. Thus\, thousands of brilliant photographs 
 are born. But he’s soon fleeing for his life again. After a harrowing es
 cape\, he reaches New York\, and another treasure trove of photographs flo
 ws...
DTSTART;TZID=America/New_York:20230316T190000
DTEND;TZID=America/New_York:20230316T210000
END:VEVENT
END:VCALENDAR
