BEGIN:VCALENDAR
PRODID:-//eluceo/ical//2.0/EN
VERSION:2.0
CALSCALE:GREGORIAN
BEGIN:VEVENT
UID:42cc7b593ba6ff6d21ba8a6dacf95886
DTSTAMP:20260422T015855Z
SUMMARY:New Hampshire Jewish Film Festival    Childen on Nobody
DESCRIPTION:Jewish Federation of New Hampshire\nCommunity Calendar\nhttps:/
 /jewishnh.org/community-calendar/new-hampshire-jewish-film-festival----chi
 lden-on-nobody-1710436871\n\nChildren of Nobody\nIsrael\, 2022\n108 Minute
 s\nHebrew with English Subtitles\n\nLiving on the fringes of Israeli socie
 ty\, troubled boys must band together to save the shelter for at-risk yout
 h that has kept them off the streets. For generations\, altruistic surroga
 te mother Margalit provided loving refuge to victims of neglect and violen
 ce in a shabby house on Tel Aviv’s outskirts. When tragedy strikes\, it
 ’s up to right-hand man Jackie to keep the home from corrupt property de
 velopers and ...
DTSTART;TZID=America/New_York:20240407T160000
DTEND;TZID=America/New_York:20240407T183000
END:VEVENT
END:VCALENDAR
