BEGIN:VCALENDAR
PRODID:-//eluceo/ical//2.0/EN
VERSION:2.0
CALSCALE:GREGORIAN
BEGIN:VEVENT
UID:fb941087f81e11162b599ab1db8a9b55
DTSTAMP:20260422T034843Z
SUMMARY:New Hampshire Jewish Film Festival   Opening Night  The Automat
DESCRIPTION:Jewish Federation of New Hampshire\nCommunity Calendar\nhttps:/
 /jewishnh.org/community-calendar/new-hampshire-jewish-film-festival---open
 ing-night--the-automat-1646510106\n\nPlease Join us for Opening Night at t
 he Rex Theatre \n\nSpecial Post Film Discussion \n(Immediately Following t
 he Film) \n with \nLisa Hurwitz\,Director \nand\nSteve Stollman \,Restorer
 /Curator \n The Automat will also be available virtually during our bonus 
 week April 11 - 24 \n\nThe 100-year story of the iconic restaurant chain H
 orn & Hardart\, the inspiration for Starbucks\, where generations of Ameri
 cans ate and drank coffee together at communal tables. From the perspectiv
 e of former...
DTSTART;TZID=America/New_York:20220331T190000
DTEND;TZID=America/New_York:20220331T210000
END:VEVENT
END:VCALENDAR
