BEGIN:VCALENDAR
PRODID:-//eluceo/ical//2.0/EN
VERSION:2.0
CALSCALE:GREGORIAN
BEGIN:VEVENT
UID:3de945c638b3dcfb591e20e1184124ca
DTSTAMP:20260422T020005Z
SUMMARY:New Hampshire Jewish Film Festival   The Boy
DESCRIPTION:Jewish Federation of New Hampshire\nCommunity Calendar\nhttps:/
 /jewishnh.org/community-calendar/new-hampshire-jewish-film-festival---the-
 boy-1710437140\n\nThe Boy\nFREE EVENT\nIsrael\, 2023\n25 Minutes\nHebrew w
 ith English Subtitles\n\nA special FREE screening of The Boy to honor the 
 memories of those who lost their lives since October 7\, 2023 and those wh
 o survived.\n\nOn Saturday\, October 7\, Hamas terrorists burst into filmm
 aker Yahav Winner's family bedroom in Kibbutz Kfar Aza in the south of Isr
 ael. Yahav tried with all his strength to block the terrorists\, allowing 
 his wife\, Shaylee\, and their one-month-old daughter\, Shaya\, to escape.
  Short...
DTSTART;TZID=America/New_York:20240407T183000
DTEND;TZID=America/New_York:20240407T193000
END:VEVENT
END:VCALENDAR
