BEGIN:VCALENDAR
PRODID:-//eluceo/ical//2.0/EN
VERSION:2.0
CALSCALE:GREGORIAN
BEGIN:VEVENT
UID:9411fba5827d602bb4410f7214b1b734
DTSTAMP:20260422T111307Z
SUMMARY:New Hampshire Jewish Film Festival  Opening Reception
DESCRIPTION:Jewish Federation of New Hampshire\nCommunity Calendar\nhttps:/
 /jewishnh.org/community-calendar/new-hampshire-jewish-film-festival--openi
 ng-reception-1709685384\n\nJoin us at the Spotlight Room for our Opening N
 ight Wine and Hors d'Oeuvres Reception to celebrate the start of our 16th 
 Annual New Hampshire Jewish Film Festival followed by the screening of Rem
 embering Gene Wilder at the Rex Theatre. (Separate tickets required for ea
 ch event.)
DTSTART;TZID=America/New_York:20240404T171500
DTEND;TZID=America/New_York:20240404T183000
END:VEVENT
END:VCALENDAR
