BEGIN:VCALENDAR
PRODID:-//eluceo/ical//2.0/EN
VERSION:2.0
CALSCALE:GREGORIAN
BEGIN:VEVENT
UID:414e00091bbc4ac84ad9e89d2b198bb2
DTSTAMP:20260422T015845Z
SUMMARY:New Hampshire Jewish Film Festival  The Way to Happiness
DESCRIPTION:Jewish Federation of New Hampshire\nCommunity Calendar\nhttps:/
 /jewishnh.org/community-calendar/new-hampshire-jewish-film-festival--the-w
 ay-to-happiness-1710436165\n\nThe Way To Happiness\nFrance\, 2022\n115 Min
 utes\nFrench with English Subtitles\n\nSaül Birnbaum is an aspiring film 
 producer who owns a popular cinema-themed deli in 1986 Brussels. While hel
 ping a young Chilean refugee to write and direct the story of his childhoo
 d\, Saül unexpectedly falls in love and is forced to confront his past as
  a “hidden child” who escaped the Holocaust\, traveling from Vienna to
  Brussels with the Kindertransport at age 6.
DTSTART;TZID=America/New_York:20240407T100000
DTEND;TZID=America/New_York:20240407T120000
END:VEVENT
END:VCALENDAR
