BEGIN:VCALENDAR
PRODID:-//eluceo/ical//2.0/EN
VERSION:2.0
CALSCALE:GREGORIAN
BEGIN:VEVENT
UID:612eecf2cd519984835c961abf27ca98
DTSTAMP:20260422T103802Z
SUMMARY:NHJFF Showing 93 Queen
DESCRIPTION:Jewish Federation of New Hampshire\nCommunity Calendar\nhttps:/
 /jewishnh.org/community-calendar/new-hampshire-jewish-film-festival-154698
 4378\n\nShowing 93 Queen\n\n1:00 PM\, Peterborough Community Theatre\, Pet
 erborough
DTSTART;TZID=America/New_York:20190407T130000
DTEND;TZID=America/New_York:20190407T150000
END:VEVENT
END:VCALENDAR
