BEGIN:VCALENDAR
PRODID:-//eluceo/ical//2.0/EN
VERSION:2.0
CALSCALE:GREGORIAN
BEGIN:VEVENT
UID:2b13a18d49073fc2b421a84a6f9fed95
DTSTAMP:20260422T163118Z
SUMMARY:New Hampshire Jewish Film Festival 2023
DESCRIPTION:Jewish Federation of New Hampshire\nCommunity Calendar\nhttps:/
 /jewishnh.org/community-calendar/new-hampshire-jewish-film-festival-2023\n
 \n 
DTSTART;TZID=America/New_York:20230316T000000
DTEND;TZID=America/New_York:20230326T235959
END:VEVENT
END:VCALENDAR
