BEGIN:VCALENDAR
PRODID:-//eluceo/ical//2.0/EN
VERSION:2.0
CALSCALE:GREGORIAN
BEGIN:VEVENT
UID:81de7265428de54396731d94be81af5d
DTSTAMP:20260423T023536Z
SUMMARY:NHJFF showing Chewdaism\, Double Date & Wendy's Shabbat
DESCRIPTION:Jewish Federation of New Hampshire\nCommunity Calendar\nhttps:/
 /jewishnh.org/community-calendar/new-hampshire-jewish-film-festival-save-t
 he-dates-1546984378\n\nJewish journeys begin at the 2019 NH Jewish Film Fe
 stival! In season eleven\, we are exceedingly proud to present a premiere 
 lineup of 14 truly outstanding and diverse films in 5 cities throughout th
 e state that will excite\, enlighten\, and provoke you\, our audience. For
  more information\, visit www.newhampshirejewishfilmfestival.org\n
DTSTART;TZID=America/New_York:20190404T190000
DTEND;TZID=America/New_York:20190404T220000
END:VEVENT
END:VCALENDAR
