BEGIN:VCALENDAR
PRODID:-//eluceo/ical//2.0/EN
VERSION:2.0
CALSCALE:GREGORIAN
BEGIN:VEVENT
UID:19bea44e410c02d7a51413c135e0199b
DTSTAMP:20260423T041155Z
SUMMARY:New Hampshire Jewish Food Festival ONLINE Ordering
DESCRIPTION:Jewish Federation of New Hampshire\nCommunity Calendar\nhttps:/
 /jewishnh.org/community-calendar/new-hampshire-jewish-food-festival-online
 -ordering-1617126020\n\nTemple B'nai Israel invites the community to enjoy
  the homemade delicacies of The New Hampshire Jewish Food Festival\nOrder 
 online June 13 – July 11 \; Pick up orders from Temple B'nai Israel\, 21
 0 Court Street\, Laconia\nMenu and more information at www.tbinh.org
DTSTART;TZID=America/New_York:20210601T060000
DTEND;TZID=America/New_York:20210625T000000
END:VEVENT
END:VCALENDAR
