BEGIN:VCALENDAR
PRODID:-//eluceo/ical//2.0/EN
VERSION:2.0
CALSCALE:GREGORIAN
BEGIN:VEVENT
UID:8a86cf3de053176ce09c58d74e7c8119
DTSTAMP:20260423T024224Z
SUMMARY:New Hampshire Stands With Israel Vigil and Community Gathering
DESCRIPTION:Jewish Federation of New Hampshire\nCommunity Calendar\nhttps:/
 /jewishnh.org/community-calendar/new-hampshire-stands-with-israel-vigil-an
 d-community-gathering-Nov\n\nNew Hampshire Stands with Israel\n\nJoin us a
 t the Jewish Federation of New Hampshire\, 273 South River Road #5\, Bedfo
 rd\, NH from 11-3pm\, Tuesday\, November 14th.\n\n*This event takes the pl
 ace of our originally scheduled gathering set for Wednesday evening\, Nove
 mber 15th.* \n\nCan’t go down to DC? Gather together to livestream foota
 ge from the rally in D.C. with our Israeli Emissary Guy Ben David and memb
 ers of our New Hampshire community.\n\nSnacks provided\; feel free to brin
 g a dairy/pareve l...
DTSTART;TZID=America/New_York:20231114T110000
DTEND;TZID=America/New_York:20231114T150000
END:VEVENT
END:VCALENDAR
