BEGIN:VCALENDAR
PRODID:-//eluceo/ical//2.0/EN
VERSION:2.0
CALSCALE:GREGORIAN
BEGIN:VEVENT
UID:f002ee4fffb9b326cc2929a5183c6585
DTSTAMP:20260425T030802Z
SUMMARY:New Immigrant and Asylum Seeker Shabbat Service
DESCRIPTION:Jewish Federation of New Hampshire\nCommunity Calendar\nhttps:/
 /jewishnh.org/community-calendar/new-immigrant-and-asylum-seeker-shabbat-s
 ervice-1672952540\n\nPlease join Temple Israel\, Portsmouth\, for a specia
 l Kabbalat Shabbat service sponsored by the Tikkun Olam Committee\, follow
 ed by an oneg Shabbat.Guest speakers who work closely with new immigrants 
 in Portsmouth\, and special musical guests Lisa Jane Lipkin and Jay Hitt\,
  will join Rabba Kaya Stern-Kaufman for this special service.About our gue
 st speakers: Maggie Fogarty\, NH Program Director of the American Friends
  Service Committee and a leader of Seacoast Interfaith Sanctuary Coalition
  (SISC...
DTSTART;TZID=America/New_York:20230203T180000
DTEND;TZID=America/New_York:20230203T200000
END:VEVENT
END:VCALENDAR
