BEGIN:VCALENDAR
PRODID:-//eluceo/ical//2.0/EN
VERSION:2.0
CALSCALE:GREGORIAN
BEGIN:VEVENT
UID:e839d58757341ae8c0353e11aabdf87c
DTSTAMP:20260425T002238Z
SUMMARY:Upper Valley Jewish Community New Year's Brunch
DESCRIPTION:Jewish Federation of New Hampshire\nCommunity Calendar\nhttps:/
 /jewishnh.org/community-calendar/new-years-brunch-1699459674\n\nJoin us to
  celebrate the New Year with a special Brunch. RSVP through the UVJC offic
 e\, 603-646-0460 or office@uvjc.org
DTSTART;TZID=America/New_York:20240101T110000
DTEND;TZID=America/New_York:20240101T130000
END:VEVENT
END:VCALENDAR
