BEGIN:VCALENDAR
PRODID:-//eluceo/ical//2.0/EN
VERSION:2.0
CALSCALE:GREGORIAN
BEGIN:VEVENT
UID:8f0c72235c269555bdbbd1c507af4d12
DTSTAMP:20260422T171442Z
SUMMARY:News from Israel -The Election
DESCRIPTION:Jewish Federation of New Hampshire\nCommunity Calendar\nhttps:/
 /jewishnh.org/community-calendar/news-from-israel--the-election-1663891918
 \n\nRa’anan de Haas\, the JFNH Israeli Shaliach\, will speak about News 
 from Israel at Etz Hayim Synagogue\, 1 ½ Hood Road\, Derry\, New Hampshir
 e on Thursday\, October 27\, 2022\, Thursday at 7 PM. He will review curre
 nt events in Israel with special attention to the elections there which ar
 e about to occur there. The talk is interactive and offers a neat opportun
 ity to hear about recent events in Israel
DTSTART;TZID=America/New_York:20221027T190000
DTEND;TZID=America/New_York:20221027T210000
END:VEVENT
END:VCALENDAR
