BEGIN:VCALENDAR
PRODID:-//eluceo/ical//2.0/EN
VERSION:2.0
CALSCALE:GREGORIAN
BEGIN:VEVENT
UID:57db5613d7c53e67b56a214fd1047cbb
DTSTAMP:20260422T161324Z
SUMMARY:NH Jewish Film Festival   America
DESCRIPTION:Jewish Federation of New Hampshire\nCommunity Calendar\nhttps:/
 /jewishnh.org/community-calendar/nh-jewish-film-festival---america-1676331
 346\n\nJOIN US AT RED RIVER THEATRES\n\nAmerica\n2022 127 Min\nIsrael \, S
 ubtitles\n\nHaving reinvented himself in the USA\, swimming coach Eli relu
 ctantly returns to Israel following his father’s death. His decision to 
 reconnect with a childhood friend and his fiancée sets in motion a chain 
 of events that will change their lives forever. As beautiful\, delicate an
 d colorful as the various flowers that often fill the screen\, America is 
 a remarkable and heartrending exploration of human emotions and ...
DTSTART;TZID=America/New_York:20230326T130000
DTEND;TZID=America/New_York:20230326T150000
END:VEVENT
END:VCALENDAR
