BEGIN:VCALENDAR
PRODID:-//eluceo/ical//2.0/EN
VERSION:2.0
CALSCALE:GREGORIAN
BEGIN:VEVENT
UID:cd838b7b0c3761856afa5d184def5039
DTSTAMP:20260423T115142Z
SUMMARY:NH Jewish Film Festival   Dedication  Closing Event and Wrap Party
DESCRIPTION:Jewish Federation of New Hampshire\nCommunity Calendar\nhttps:/
 /jewishnh.org/community-calendar/nh-jewish-film-festival---dedication--clo
 sing-event-and-wrap-party-1676331697\n\nJOIN US AT RED RIVER THEATRES\n\nD
 edication\n2022\, 67 Min\nUSA \, English\n\nRoger Peltzman transforms his 
 one-man play into a deeply poetic\, musical\, and cinematic journey. Peltz
 man’s family fled Berlin for Brussels in 1933\, and this story centers o
 n his uncle Norbert\, the finest pianist in Belgium\, until he was murdere
 d in Auschwitz at 21 years of age. A singular tale from the Shoah that is 
 at once extraordinary and relatable\, Dedication also comes to terms with 
 second-generation survivor ...
DTSTART;TZID=America/New_York:20230326T153000
DTEND;TZID=America/New_York:20230326T173000
END:VEVENT
END:VCALENDAR
