BEGIN:VCALENDAR
PRODID:-//eluceo/ical//2.0/EN
VERSION:2.0
CALSCALE:GREGORIAN
BEGIN:VEVENT
UID:14f3e3e374fcd293f0e466a89f3f6759
DTSTAMP:20260422T091504Z
SUMMARY:NH Jewish Film Festival  Apples and Oranges Post Film Zoom Discussi
 on
DESCRIPTION:Jewish Federation of New Hampshire\nCommunity Calendar\nhttps:/
 /jewishnh.org/community-calendar/nh-jewish-film-festival--apples-and-orang
 es-post-film-zoom-discussion-1646853939\n\nWith your purchase of a ticket 
 for Apples and Oranges you will also be registered for the FREE LIVE Zoom 
 Discussion featuring the films's Director\, Yoav BrillApples and Oranges i
 s a documentary films about the Kibbutz movement in Israel. Kibbutz volunt
 eering began in an eclipse. The idealistic and rebellious 1960s generation
  was charmed by the old communist ideology as it came to life in the Israe
 li Kibbutz. The 1967 Six-Day War attracted a wave of support for Israel th
 at the Kibbutz Movement...
DTSTART;TZID=America/New_York:20220404T190000
DTEND;TZID=America/New_York:20220404T203000
END:VEVENT
END:VCALENDAR
