BEGIN:VCALENDAR
PRODID:-//eluceo/ical//2.0/EN
VERSION:2.0
CALSCALE:GREGORIAN
BEGIN:VEVENT
UID:e1f51fab9c81f5c4fbe4c16fb017240b
DTSTAMP:20260422T045453Z
SUMMARY:NH Jewish Film Festival:  Farewell Mr Haffmann
DESCRIPTION:Jewish Federation of New Hampshire\nCommunity Calendar\nhttps:/
 /jewishnh.org/community-calendar/nh-jewish-film-festival--farewell-mr-haff
 mann-1675944426\n\nFarewell\, Mr. Haffmann\nFeature Film 116 Minutes\nFran
 ce\, Subtitled\n\nThis film is available in 2 theaters on March 19 and vir
 tually March 27 - April 16\n\nVenues\nThe Showroom Keene\, NH\n3S Art Spac
 e Portsmouth\, NH\n\nOccupied Paris\, 1941: All members of the Jewish comm
 unity are instructed to identify themselves to authorities. Jeweler Joseph
  Haffmann (Daniel Auteuil)\, fearing the worst\, arranges for his family t
 o flee the city and offers his employee François Mercier (Gilles Lellouch
 e) th...
DTSTART;TZID=America/New_York:20230319T140000
DTEND;TZID=America/New_York:20230319T160000
END:VEVENT
END:VCALENDAR
