BEGIN:VCALENDAR
PRODID:-//eluceo/ical//2.0/EN
VERSION:2.0
CALSCALE:GREGORIAN
BEGIN:VEVENT
UID:22c7886e78069670fdce1c8c989db0ee
DTSTAMP:20260422T120750Z
SUMMARY:NH Jewish Film Festival  Man in the Basement
DESCRIPTION:Jewish Federation of New Hampshire\nCommunity Calendar\nhttps:/
 /jewishnh.org/community-calendar/nh-jewish-film-festival--man-in-the-basem
 ent-1676329704\n\nJOIN US AT RED RIVER THEATRES\n\nMan in the Basement\n11
 4 minutes | France | 2021\n\nA Jewish couple sells their Parisian flat's u
 nused cellar to a former history teacher (François Cluzet)\, but when the
  stranger takes up residence\, his secret life as an antisemitic conspirac
 y theorist emerges. As the couple struggles to rescind the sale\, the buye
 r befriends their naïve teenage daughter.\n\nSelection: Atlanta Jewish Fi
 lm Festival 2022\, Chicago Jewish Film Festival 2022\, Jewish Internationa
 l ...
DTSTART;TZID=America/New_York:20230323T190000
DTEND;TZID=America/New_York:20230323T210000
END:VEVENT
END:VCALENDAR
