BEGIN:VCALENDAR
PRODID:-//eluceo/ical//2.0/EN
VERSION:2.0
CALSCALE:GREGORIAN
BEGIN:VEVENT
UID:d05dac2a1a8acfc09c28bf9345f8675c
DTSTAMP:20260421T175420Z
SUMMARY:NH Jewish Film Festival Movie Club - Yentl
DESCRIPTION:Jewish Federation of New Hampshire\nCommunity Calendar\nhttps:/
 /jewishnh.org/community-calendar/nh-jewish-film-festival-movie-club-yentl\
 n\nCelebrate the 40th anniversary of Yentl with the NH Jewish Film Festiva
 l!\n\nJoin us in person at the Jewish Federation of New Hampshire on Augus
 t 22 at 2PM followed by a post-film discussion at 4PM. $5/participant and 
 includes popscorn and drinks.\n\nOR\n\nWatch the film from the comfort of 
 your own home on Max\, Hulu\, or Amazon Proime and then join the post-film
  discussion live or via Zoom
DTSTART;TZID=America/New_York:20230822T140000
DTEND;TZID=America/New_York:20230822T160000
END:VEVENT
END:VCALENDAR
