BEGIN:VCALENDAR
PRODID:-//eluceo/ical//2.0/EN
VERSION:2.0
CALSCALE:GREGORIAN
BEGIN:VEVENT
UID:f001634b9dac97b2c86523c63834b0a5
DTSTAMP:20260422T045443Z
SUMMARY:NH Jewish Film Festival Opening Night Film Remembering Gene Wilder
DESCRIPTION:Jewish Federation of New Hampshire\nCommunity Calendar\nhttps:/
 /jewishnh.org/community-calendar/nh-jewish-film-festival-opening-night-fil
 m-remembering-gene-wilder-1709686047\n\nOPENING NIGHT FILM\nREMEMBERING GE
 NE WILDER\n90 MIN USA\n\nGene Wilder\, the prolific actor and screenwriter
 \, is known all over the world for his endearing roles in classic films su
 ch as The Producers\, Young Frankenstein\, Blazing Saddles\, Silver Streak
 \, The Frisco Kid\, and Willy Wonka and the Chocolate Factory. With rare\,
  never-before-seen home videos and memorable scenes from our favorite Gene
  Wilder films\, the documentary reveals intimate insights detailing his li
 fe and career. Guest appeara...
DTSTART;TZID=America/New_York:20240404T190000
DTEND;TZID=America/New_York:20240404T210000
END:VEVENT
END:VCALENDAR
