BEGIN:VCALENDAR
PRODID:-//eluceo/ical//2.0/EN
VERSION:2.0
CALSCALE:GREGORIAN
BEGIN:VEVENT
UID:c40530e37e9307da1b2efd14f420c5a4
DTSTAMP:20260421T175450Z
SUMMARY:NH Jewish Film Festival TV Series Binge Fest  Labyrinth of Peace
DESCRIPTION:Jewish Federation of New Hampshire\nCommunity Calendar\nhttps:/
 /jewishnh.org/community-calendar/nh-jewish-film-festival-tv-series-binge-f
 est--labyrinth-of-peace-1648080483\n\nJoin us for a 6 Episode Mini Series 
 based on a True Story  \n$24.00 per Household \nFilm link available for 15
  days starting on \nMay 1\, 2022 until May 15\, 2022  ​ \n\n1945. War is
  over. Switzerland\, the neutral small country at the heart of Europe\, wa
 s all but spared: Klara\, her fiancé Johann and his brother Egon are look
 ing bright-eyed into the future. While Klara tries to mend the wounds of t
 he war by caring for young\, displaced holocaust survivors\, Johann\, who 
 works for her...
DTSTART;TZID=America/New_York:20220501T000000
DTEND;TZID=America/New_York:20220515T235500
END:VEVENT
END:VCALENDAR
