BEGIN:VCALENDAR
PRODID:-//eluceo/ical//2.0/EN
VERSION:2.0
CALSCALE:GREGORIAN
BEGIN:VEVENT
UID:fa43e0810a586d0dcc0e2b37a201938c
DTSTAMP:20260422T063410Z
SUMMARY:NH Jewish Food Festival
DESCRIPTION:Jewish Federation of New Hampshire\nCommunity Calendar\nhttps:/
 /jewishnh.org/community-calendar/nh-jewish-food-festival-1554426772\n\nThe
  Jewish Food Festival in Laconia ranks among the best due to TBI’s talen
 ted cooking crew of women and men who have been gathering before Festival 
 Day for planning and recipe selection as well as participating in dozens o
 f cooking and baking sessions in the TBI kitchen. Come meet old and new fr
 iends from the community at large\, both Jewish food connoisseurs and rook
 ies alike.  All are welcome!
DTSTART;TZID=America/New_York:20190714T110000
DTEND;TZID=America/New_York:20190714T140000
END:VEVENT
END:VCALENDAR
