BEGIN:VCALENDAR
PRODID:-//eluceo/ical//2.0/EN
VERSION:2.0
CALSCALE:GREGORIAN
BEGIN:VEVENT
UID:7bfc65455f42651a5e011f585ecb2296
DTSTAMP:20260422T100229Z
SUMMARY:NH Jewish Food Festival Pre-order until June 15
DESCRIPTION:Jewish Federation of New Hampshire\nCommunity Calendar\nhttps:/
 /jewishnh.org/community-calendar/nh-jewish-food-festival-pre-order-until-j
 une-15-1554425981\n\nChoose from a huge array of authentic textures and ta
 ste.  All items are frozen and packaged to be reheated at home\, including
  blintzes\, beef brisket\, meat knishes\, potato knishes\, latkes (potato 
 pancakes)\, matzo ball soup\, noodle kugel\, and stuffed cabbage.   Also a
 vailable for preorder will be freshly packaged chopped herring\, corned be
 ef\, pastrami\, tongue\, chopped chicken liver\, rugelach\, and strudel.  
 \nBut don’t wait - ordering closes on June 15th.  Most major credit card
 s (see...
DTSTART;TZID=America/New_York:20190414T080000
DTEND;TZID=America/New_York:20190615T004500
END:VEVENT
END:VCALENDAR
