BEGIN:VCALENDAR
PRODID:-//eluceo/ical//2.0/EN
VERSION:2.0
CALSCALE:GREGORIAN
BEGIN:VEVENT
UID:285349c7cf0f717871442c1b723e867a
DTSTAMP:20260423T031512Z
SUMMARY:NH Stands with Israel Concert
DESCRIPTION:Jewish Federation of New Hampshire\nCommunity Calendar\nhttps:/
 /jewishnh.org/community-calendar/nh-stands-with-israel-concert\n\nJoin you
 r New Hampshire community to enjoy an afternoon of music and solidarity wi
 th Israel. Light refreshments following the show.\n\nFeaturing: Rabbi Marc
  Philippe\, Alyssa Landry\, Thierry Boulanger\, Douglas Hirsch\, and Canto
 r Shira Nafshi!\n\nTickets are $18 in advance or $25 at the door
DTSTART;TZID=America/New_York:20240107T140000
DTEND;TZID=America/New_York:20240107T160000
END:VEVENT
END:VCALENDAR
