BEGIN:VCALENDAR
PRODID:-//eluceo/ical//2.0/EN
VERSION:2.0
CALSCALE:GREGORIAN
BEGIN:VEVENT
UID:926c09cb3ede63ebb39a99fcfbe9bb53
DTSTAMP:20260423T190911Z
SUMMARY:NH Statewide Tikkun Leil Shavuot
DESCRIPTION:Jewish Federation of New Hampshire\nCommunity Calendar\nhttps:/
 /jewishnh.org/community-calendar/nh-statewide-tikkun-leil-shavuot-16191043
 30\n\nCome Learn With Us\n\nThe evening begins with a short collaborative 
 erev Shavuot service followed by learning\, music\, storytelling and discu
 ssion with New Hampshire rabbis and their communities.\n\nParticipating co
 mmunities: Bethlehem Hebrew Congregation\, Congregation Ahavas Achim\, Tem
 ple Adath Yeshurun\, Temple Beth Abraham\, Temple Beth Jacob\, Temple B’
 nai Israel\, Temple Israel- Portsmouth.\n\nTo register for the Zoom link\,
  please contact your temple office or templeoffice@templeisraelnh.or...
DTSTART;TZID=America/New_York:20210516T200000
DTEND;TZID=America/New_York:20210516T223000
END:VEVENT
END:VCALENDAR
