BEGIN:VCALENDAR
PRODID:-//eluceo/ical//2.0/EN
VERSION:2.0
CALSCALE:GREGORIAN
BEGIN:VEVENT
UID:fc7d7540778cc5d12f2aed19c3465a5d
DTSTAMP:20260422T094950Z
SUMMARY:NH4Israel "How to Achieve Your Dreams"
DESCRIPTION:Jewish Federation of New Hampshire\nCommunity Calendar\nhttps:/
 /jewishnh.org/community-calendar/nh4israel-how-to-achieve-your-dreams-1547
 236477\n\nFirst NH4Israel meeting of 2019\nWed. Jan. 16th 6:30 pm\nTemple 
 Israel 66 Salmon St. Manchester\, NH\nWatch Randy Pausch's Last Lecture\n"
 How you can achieve your dreams\nor enable the dreams of others"\nRandy wa
 s diagnosed with pancreatic cancer\nand told he had just 3 months left to 
 live.
DTSTART;TZID=America/New_York:20190116T183000
DTEND;TZID=America/New_York:20190116T203000
END:VEVENT
END:VCALENDAR
