BEGIN:VCALENDAR
PRODID:-//eluceo/ical//2.0/EN
VERSION:2.0
CALSCALE:GREGORIAN
BEGIN:VEVENT
UID:f66d352c00091a7a0a17061009818b21
DTSTAMP:20260423T130341Z
SUMMARY:NH4ISRAEL Speaker\,  Achieving Jewish Safety in a Forgotten Age
DESCRIPTION:Jewish Federation of New Hampshire\nCommunity Calendar\nhttps:/
 /jewishnh.org/community-calendar/nh4israel-speaker--achieving-jewish-safet
 y-in-a-forgotten-age-1574649953\n\nJoin us for NH4Israel's Speaker Event o
 n December 4 at 6:30 pm\, Temple Israel Manchester\, 66 Salmon Street\, Ma
 nchester.\n\nDexter Van Zile's talk is titled "The Lost Taboo: Achieving J
 ewish Safety in a Forgotten Age"\n\nDexter is Christian Media Analyst for 
 CAMERA(Committee for Accuracy in Middle East Reporting in America). His wo
 rk is focused on anti-Israel propaganda broadcast by Christian churches an
 d para-church institutions and the failure of Christian peace activists to
  address human ri...
DTSTART;TZID=America/New_York:20191204T183000
DTEND;TZID=America/New_York:20191204T201500
END:VEVENT
END:VCALENDAR
