BEGIN:VCALENDAR
PRODID:-//eluceo/ical//2.0/EN
VERSION:2.0
CALSCALE:GREGORIAN
BEGIN:VEVENT
UID:bf5786977b229e50da654bb26f7b6e4e
DTSTAMP:20260423T124202Z
SUMMARY:NH4Israel's 2nd Annual Run for Healing
DESCRIPTION:Jewish Federation of New Hampshire\nCommunity Calendar\nhttps:/
 /jewishnh.org/community-calendar/nh4israels-2nd-annual-run-for-healing\n\n
 NH4Israel's 2nd Annual Run for Healing​\nNoon-3 PM (run at 1 PM)\, Etz
  Hayim Synagogue\, Derry\n\n5K run for ALS (or 1 mile walk\, 2 mile walk o
 r just come and celebrate with us!). Help raise funds for ALS or Lou Gehri
 gs genetic research at Hadassah Hospital in Jerusalem. More information an
 d to register: NH4israel.org\n\n 
DTSTART;TZID=America/New_York:20180422T120000
DTEND;TZID=America/New_York:20180422T150000
END:VEVENT
END:VCALENDAR
