BEGIN:VCALENDAR
PRODID:-//eluceo/ical//2.0/EN
VERSION:2.0
CALSCALE:GREGORIAN
BEGIN:VEVENT
UID:66c8fff7054d3508dc85142e8491ba19
DTSTAMP:20260422T172223Z
SUMMARY:NHJFF  Post TV Series "The New Jew" Discussion
DESCRIPTION:Jewish Federation of New Hampshire\nCommunity Calendar\nhttps:/
 /jewishnh.org/community-calendar/nhjff--post-tv-series-the-new-jew-discuss
 ion-1646330240\n\nJoin us for the Post Film Discussion for the Israeli TV 
 Series " The New Jew"
DTSTART;TZID=America/New_York:20220315T190000
DTEND;TZID=America/New_York:20220315T203000
END:VEVENT
END:VCALENDAR
