BEGIN:VCALENDAR
PRODID:-//eluceo/ical//2.0/EN
VERSION:2.0
CALSCALE:GREGORIAN
BEGIN:VEVENT
UID:2feccddb3fce8bc92d940605d75d832a
DTSTAMP:20260422T172153Z
SUMMARY:NHJFF  Shared Legacies: The African-American Jewish Civil Rights Al
 liance
DESCRIPTION:Jewish Federation of New Hampshire\nCommunity Calendar\nhttps:/
 /jewishnh.org/community-calendar/nhjff--shared-legacies-the-african-americ
 an-jewish-civil-rights-alliance-1605802531\n\nShared Legacies which is cur
 rently rated 9.8/10 on IMDb (the Internet Movie Database) and had its worl
 d premiere at the Atlanta Jewish Film Festival in February\, details the l
 ong standing alliance between the African-American and Jewish communities 
 dating back to the early 1900s.\nFeaturing interviews with many prominent 
 African-American and Jewish leaders from around the world including rabbis
 \, politicians\, activists\, entertainers\, Holocaust survivors\, and memb
 ers of Dr. Martin Luther...
DTSTART;TZID=America/New_York:20210128T160000
DTEND;TZID=America/New_York:20210131T200000
END:VEVENT
END:VCALENDAR
