BEGIN:VCALENDAR
PRODID:-//eluceo/ical//2.0/EN
VERSION:2.0
CALSCALE:GREGORIAN
BEGIN:VEVENT
UID:73bf106634c0c9fb9adc8a0344a05778
DTSTAMP:20260423T115212Z
SUMMARY:NHJFF  The New Jew Israeli TV Series Binge Fest
DESCRIPTION:Jewish Federation of New Hampshire\nCommunity Calendar\nhttps:/
 /jewishnh.org/community-calendar/nhjff--the-new-jew-israeli-tv-series-bing
 e-fest-1643317997\n\nTHE NEW JEW is a four-episode TV documentary series s
 howcasing the diversity of the Jewish community in the United States\, the
  variety of alternative models it offers for living a rich Jewish life\, a
 nd the differences in the way Judaism is experienced in the United States 
 and Israel. Presented by Guri Alfi\, one of Israel’s most popular comedi
 ans\, \n\nTHE NEW JEW is a spirited\, and ultimately hopeful\, journey thr
 ough modern American Jewry. \nThe series was produced for the Public...
DTSTART;TZID=America/New_York:20220301T000000
DTEND;TZID=America/New_York:20220315T235500
END:VEVENT
END:VCALENDAR
