BEGIN:VCALENDAR
PRODID:-//eluceo/ical//2.0/EN
VERSION:2.0
CALSCALE:GREGORIAN
BEGIN:VEVENT
UID:3f875e84e8c1d0554921e2664ec96105
DTSTAMP:20260423T130431Z
SUMMARY:NHJFF Presents  Israeli TV Series Binge    The Conductor
DESCRIPTION:Jewish Federation of New Hampshire\nCommunity Calendar\nhttps:/
 /jewishnh.org/community-calendar/nhjff-presents--israeli-tv-series-binge--
 --the-conductor-1608510077\n\nGreat Opportunity to Binge Watch the Israeli
  TV Series  The Conductor.    The Series Package include 10- 40 MInute epi
 sodes.  
DTSTART;TZID=America/New_York:20210303T180000
DTEND;TZID=America/New_York:20210317T180000
END:VEVENT
END:VCALENDAR
